BEGIN:VCALENDAR
VERSION:2.0
PRODID:-//Rocky Mountain Section PGA - ECPv6.15.20//NONSGML v1.0//EN
CALSCALE:GREGORIAN
METHOD:PUBLISH
X-WR-CALNAME:Rocky Mountain Section PGA
X-ORIGINAL-URL:https://rockymountainpga.com
X-WR-CALDESC:Events for Rocky Mountain Section PGA
REFRESH-INTERVAL;VALUE=DURATION:PT1H
X-Robots-Tag:noindex
X-PUBLISHED-TTL:PT1H
BEGIN:VTIMEZONE
TZID:UTC
BEGIN:STANDARD
TZOFFSETFROM:+0000
TZOFFSETTO:+0000
TZNAME:UTC
DTSTART:20190101T000000
END:STANDARD
END:VTIMEZONE
BEGIN:VEVENT
DTSTART;VALUE=DATE:20200810
DTEND;VALUE=DATE:20200812
DTSTAMP:20260423T163347
CREATED:20200130T222942Z
LAST-MODIFIED:20200813T215857Z
UID:10000629-1597017600-1597190399@rockymountainpga.com
SUMMARY:McCall Golf Club Pro-Am Supported by Meridian Family Medicine
DESCRIPTION:McCall Golf Club Pro-Am Supported by Meridian Family Medicine\nMcCall\, ID\nMonday & Tuesday\, August 10-11\, 2020\n36 Holes\, 1G/1N; Starting Times from 7:00 a.m. to 4:00 p.m.\nTHE TIME YOU MAKE ON MONDAY IS THE TIME YOU WILL HAVE ON TUESDAY\nTee Markers: Professionals – Blue\, Women Professionals – Silver\,\nSenior Professionals – White\, Amateurs – White\, Lady Amateurs – Silver\nEntry Fees: Professionals – $182\, Amateurs – $182\n$150 to Purse & Sanction\nEntry Includes: $2\,000 Added\, Complimentary Range\, $32 Course Usage\n55 Teams Max – Shorts Permitted\nForeTees On-line Entry Only Dates: Members – 7/29\, Associates – 8/2\n(208) 634-7200 – Allan Morrison \nCLICK HERE for edited results.
URL:https://rockymountainpga.com/event/mccall-golf-club-pro-am/
CATEGORIES:Snake River
END:VEVENT
BEGIN:VEVENT
DTSTART;VALUE=DATE:20200811
DTEND;VALUE=DATE:20200812
DTSTAMP:20260423T163347
CREATED:20200130T223323Z
LAST-MODIFIED:20200815T215345Z
UID:10000634-1597104000-1597190399@rockymountainpga.com
SUMMARY:Sage Lakes Golf Club Pro-Am
DESCRIPTION:Sage Lakes Golf Club Pro-Am\nIdaho Falls\, ID\nTuesday\, August 11\, 2020\n18 Holes\, 1G/1N; 7:00 a.m.-2:30 p.m. Starting Times\nTee Markers: Professionals – Blue\, Women Professionals – Red\,\nSenior Professionals – White\, Amateurs – White\, Lady Amateurs – Red\nEntry Fees: Professionals – $55\, Amateurs – $55\n$50 to Purse & Sanction\nEntry Includes: $5 Range\n46 Teams Max – Shorts Permitted\nForeTees On-line Entry Only Dates: Members – 7/30\, Associates – 8/3\n(208) 612-8535 – Gaylen Denning \nCLICK HERE for results
URL:https://rockymountainpga.com/event/sage-lakes-golf-club-pro-am/
CATEGORIES:Snake River
END:VEVENT
END:VCALENDAR