BEGIN:VCALENDAR
VERSION:2.0
PRODID:-//Rocky Mountain Section PGA - ECPv6.15.20//NONSGML v1.0//EN
CALSCALE:GREGORIAN
METHOD:PUBLISH
X-WR-CALNAME:Rocky Mountain Section PGA
X-ORIGINAL-URL:https://rockymountainpga.com
X-WR-CALDESC:Events for Rocky Mountain Section PGA
REFRESH-INTERVAL;VALUE=DURATION:PT1H
X-Robots-Tag:noindex
X-PUBLISHED-TTL:PT1H
BEGIN:VTIMEZONE
TZID:UTC
BEGIN:STANDARD
TZOFFSETFROM:+0000
TZOFFSETTO:+0000
TZNAME:UTC
DTSTART:20190101T000000
END:STANDARD
END:VTIMEZONE
BEGIN:VEVENT
DTSTART;VALUE=DATE:20200803
DTEND;VALUE=DATE:20200804
DTSTAMP:20260426T000350
CREATED:20200131T001204Z
LAST-MODIFIED:20200802T212932Z
UID:10000668-1596412800-1596499199@rockymountainpga.com
SUMMARY:Windfall Classic
DESCRIPTION:Windfall Classic \nMonday\, August 3\, 2020\nCrane Creek Country Club – Boise\, ID \nCLICK HERE for results
URL:https://rockymountainpga.com/event/windfall-classic-3/
CATEGORIES:Snake River
END:VEVENT
BEGIN:VEVENT
DTSTART;VALUE=DATE:20200803
DTEND;VALUE=DATE:20200805
DTSTAMP:20260426T000350
CREATED:20200131T001026Z
LAST-MODIFIED:20200717T174451Z
UID:10000667-1596412800-1596585599@rockymountainpga.com
SUMMARY:Montana Cup Matches
DESCRIPTION:Montana Cup Matches \nBlack Bull – Bozeman\, Montana
URL:https://rockymountainpga.com/event/montana-cup-matches/
CATEGORIES:Yellowstone
END:VEVENT
END:VCALENDAR