BEGIN:VCALENDAR
VERSION:2.0
PRODID:-//Rocky Mountain Section PGA - ECPv6.15.20//NONSGML v1.0//EN
CALSCALE:GREGORIAN
METHOD:PUBLISH
X-WR-CALNAME:Rocky Mountain Section PGA
X-ORIGINAL-URL:https://rockymountainpga.com
X-WR-CALDESC:Events for Rocky Mountain Section PGA
REFRESH-INTERVAL;VALUE=DURATION:PT1H
X-Robots-Tag:noindex
X-PUBLISHED-TTL:PT1H
BEGIN:VTIMEZONE
TZID:UTC
BEGIN:STANDARD
TZOFFSETFROM:+0000
TZOFFSETTO:+0000
TZNAME:UTC
DTSTART:20190101T000000
END:STANDARD
END:VTIMEZONE
BEGIN:VEVENT
DTSTART;VALUE=DATE:20200316
DTEND;VALUE=DATE:20200317
DTSTAMP:20260420T095549
CREATED:20200130T172207Z
LAST-MODIFIED:20200317T021025Z
UID:10000540-1584316800-1584403199@rockymountainpga.com
SUMMARY:Schindler Elevators BanBury Golf Course Pro-Am
DESCRIPTION:BanBury Golf Course Pro-Am\nEagle\, ID\nMonday\, March 16\, 2020\n18 Holes\, 1G/1N; 11:00 Shotgun\nTee Markers: Professionals – Red\, Women Professionals – White\,\nSenior Professionals – Black\, Amateurs – Black\, Lady Amateurs – Orange\nTee-it-FORWARD\nEntry Fees: Professionals – $80\, Amateurs – $80\n$70 to Purse & Sanction\nEntry Includes: $15 Optional Golf Car\, $10 Lunch\, $1\,000 Added Money\n28 Teams Max – Shorts Permitted\nForeTees On-line Entry Only Dates: Members – 3/4\, Associates – 3/8\n(208) 939-3600 – Katie Somers \nCLICK HERE for Results
URL:https://rockymountainpga.com/event/schindler-elevators-banbury-golf-course-pro-am/
CATEGORIES:Snake River
END:VEVENT
END:VCALENDAR