BEGIN:VCALENDAR
VERSION:2.0
PRODID:-//Rocky Mountain Section PGA - ECPv6.15.20//NONSGML v1.0//EN
CALSCALE:GREGORIAN
METHOD:PUBLISH
X-ORIGINAL-URL:https://rockymountainpga.com
X-WR-CALDESC:Events for Rocky Mountain Section PGA
REFRESH-INTERVAL;VALUE=DURATION:PT1H
X-Robots-Tag:noindex
X-PUBLISHED-TTL:PT1H
BEGIN:VTIMEZONE
TZID:UTC
BEGIN:STANDARD
TZOFFSETFROM:+0000
TZOFFSETTO:+0000
TZNAME:UTC
DTSTART:20180101T000000
END:STANDARD
END:VTIMEZONE
BEGIN:VEVENT
DTSTART;VALUE=DATE:20190730
DTEND;VALUE=DATE:20190801
DTSTAMP:20260425T144955
CREATED:20190219T160123Z
LAST-MODIFIED:20190613T144405Z
UID:10000604-1564444800-1564617599@rockymountainpga.com
SUMMARY:MONTANA CUP
DESCRIPTION:Butte Country Club – Butte\, Montana \nCLICK HERE for Butte CC website
URL:https://rockymountainpga.com/event/montana-cup-2/
CATEGORIES:Yellowstone
END:VEVENT
END:VCALENDAR