BEGIN:VCALENDAR
VERSION:2.0
PRODID:-//Rocky Mountain Section PGA - ECPv6.15.20//NONSGML v1.0//EN
CALSCALE:GREGORIAN
METHOD:PUBLISH
X-ORIGINAL-URL:https://rockymountainpga.com
X-WR-CALDESC:Events for Rocky Mountain Section PGA
REFRESH-INTERVAL;VALUE=DURATION:PT1H
X-Robots-Tag:noindex
X-PUBLISHED-TTL:PT1H
BEGIN:VTIMEZONE
TZID:UTC
BEGIN:STANDARD
TZOFFSETFROM:+0000
TZOFFSETTO:+0000
TZNAME:UTC
DTSTART:20180101T000000
END:STANDARD
END:VTIMEZONE
BEGIN:VEVENT
DTSTART;VALUE=DATE:20190716
DTEND;VALUE=DATE:20190718
DTSTAMP:20260421T104427
CREATED:20190219T160107Z
LAST-MODIFIED:20190712T233744Z
UID:10000556-1563235200-1563407999@rockymountainpga.com
SUMMARY:ROCKY MOUNTAIN SECTION SENIOR PGA PROFESSIONAL CHAMPIONSHIP presented by Cadillac
DESCRIPTION:supported by Golf Channel\, John Deere\, OMEGA and The PGA TOUR \nLaurel Golf Club – Laurel\, Montana \nCLICK HERE for the BlueGolf page and all tournament information. \nCLICK HERE for tournament information from the Section. \nCLICK HERE for tournament information from the PGA of America.
URL:https://rockymountainpga.com/event/senior-section-championship-2/
CATEGORIES:Section
END:VEVENT
END:VCALENDAR