BEGIN:VCALENDAR
VERSION:2.0
PRODID:-//Rocky Mountain Section PGA - ECPv6.15.20//NONSGML v1.0//EN
CALSCALE:GREGORIAN
METHOD:PUBLISH
X-WR-CALNAME:Rocky Mountain Section PGA
X-ORIGINAL-URL:https://rockymountainpga.com
X-WR-CALDESC:Events for Rocky Mountain Section PGA
REFRESH-INTERVAL;VALUE=DURATION:PT1H
X-Robots-Tag:noindex
X-PUBLISHED-TTL:PT1H
BEGIN:VTIMEZONE
TZID:UTC
BEGIN:STANDARD
TZOFFSETFROM:+0000
TZOFFSETTO:+0000
TZNAME:UTC
DTSTART:20180101T000000
END:STANDARD
END:VTIMEZONE
BEGIN:VEVENT
DTSTART;VALUE=DATE:20190701
DTEND;VALUE=DATE:20190702
DTSTAMP:20260419T191905
CREATED:20190219T160122Z
LAST-MODIFIED:20190702T152552Z
UID:10000598-1561939200-1562025599@rockymountainpga.com
SUMMARY:Cottonwood Hills Golf Club Pro-Am - Bozeman\, MT
DESCRIPTION:18 Holes\, 1G/2N; 7:30 a.m. Starting Times;\nTee Markers: Professionals – Blue\, Women Professionals – Green\, Amateurs – Blue\,\nLady Amateurs – Green\, Tee-it-FORWARD; Entry Fees: Professionals – $70\, Amateurs – $65\,\nAll to Purse and Sanction; Entry Includes: Range\, Deuce Pot\, Skins\, UGC’s offered; 32 Teams Max;\nCall In Dates: Members – 6/1\, Associates – 6/1\, Amateur Team Captains – 6/3;\n(406) 587-1118 Jim Halberg \nCLICK HERE for team entry form \nCLICK HERE for results
URL:https://rockymountainpga.com/event/cottonwood-hills-golf-club-pro-am-2/
CATEGORIES:Yellowstone
END:VEVENT
BEGIN:VEVENT
DTSTART;VALUE=DATE:20190701
DTEND;VALUE=DATE:20190703
DTSTAMP:20260419T191905
CREATED:20190219T160106Z
LAST-MODIFIED:20190703T184958Z
UID:10000554-1561939200-1562111999@rockymountainpga.com
SUMMARY:Jackpot Golf Club Pro-Ladies presented by Cactus Pete's Resort Casino - Jackpot\, NV
DESCRIPTION:36 Holes\, 1G/1N; 1:00 & 8:00 Shotguns;\nTee Markers: Professionals – Blue\, Women Professionals – Red\, Senior Professionals – White\,\nAmateurs – Red; Entry Fees: Professionals – $175\, Amateurs – $175\, $145 to Purse and Sanction;\nEntry Includes: $2 Range\, $28 Golf Car; 28 Teams Max;\nForeTees On-line Entry Only Dates: 8:00 a.m.; Members – 6/19\, Associates – 6/23;\n(775) 755-2260 Brent Fleshman \nLogin to ForeTees for online entry \nCLICK HERE for results
URL:https://rockymountainpga.com/event/jackpot-golf-club-pro-ladies-2/
CATEGORIES:Snake River
END:VEVENT
END:VCALENDAR