BEGIN:VCALENDAR
VERSION:2.0
PRODID:-//Rocky Mountain Section PGA - ECPv6.15.20//NONSGML v1.0//EN
CALSCALE:GREGORIAN
METHOD:PUBLISH
X-ORIGINAL-URL:https://rockymountainpga.com
X-WR-CALDESC:Events for Rocky Mountain Section PGA
REFRESH-INTERVAL;VALUE=DURATION:PT1H
X-Robots-Tag:noindex
X-PUBLISHED-TTL:PT1H
BEGIN:VTIMEZONE
TZID:UTC
BEGIN:STANDARD
TZOFFSETFROM:+0000
TZOFFSETTO:+0000
TZNAME:UTC
DTSTART:20180101T000000
END:STANDARD
END:VTIMEZONE
BEGIN:VEVENT
DTSTART;VALUE=DATE:20190422
DTEND;VALUE=DATE:20190423
DTSTAMP:20260426T001546
CREATED:20190219T160058Z
LAST-MODIFIED:20190424T170106Z
UID:10000528-1555891200-1555977599@rockymountainpga.com
SUMMARY:River's Edge Golf Club Pro-Am
DESCRIPTION:18 Holes\, 1G/1N; 9:30 Shotgun;\nTee Markers: Professionals – Blue\, Women Professionals – Red\, Senior Professionals – White\,\nAmateurs – White\, Women Amateurs – Red; Entry Fees: Professionals – $82\, Amateurs – $82\,\n$60 to Purse and Sanction; Entry Includes: $10 Lunch\, $12 Golf Car; 28 Teams Max;\nForeTees On-line Entry Only Dates: 8:00 a.m.; Members – 4/10\, Associates – 4/14;\n(208) 878-9807 Scott Draper \nLogin to ForeTees for online entry \nCLICK HERE for results
URL:https://rockymountainpga.com/event/rivers-edge-golf-club-pro-am-2/
CATEGORIES:Snake River
END:VEVENT
END:VCALENDAR